View In:
ArcGIS JavaScript
ArcGIS Online Map Viewer
ArcGIS Earth
Service Description: DRAPE 2014 Imagery in Cache Format. Goes down to 1:70 scale
Name: DRAPE/DRAPE2014_Cache
Description: DRAPE 2014 Imagery in Cache Format. Goes down to 1:70 scale
Single Fused Map Cache: false
Extent:
XMin: -8417380.21886253
YMin: 5588746.475110322
XMax: -8273417.047774281
YMax: 5704162.506217783
Spatial Reference: 102100
(3857)
Initial Extent:
XMin: -8417380.21886253
YMin: 5588746.475110322
XMax: -8273417.047774281
YMax: 5704162.506217783
Spatial Reference: 102100
(3857)
Full Extent:
XMin: -8417380.21886253
YMin: 5588746.475110322
XMax: -8273417.047774281
YMax: 5704162.506217783
Spatial Reference: 102100
(3857)
Pixel Size X: 0.29858214164761715
Pixel Size Y: 0.29858214164761615
Band Count: 3
Pixel Type: U8
RasterFunction Infos: {"rasterFunctionInfos": [{
"name": "None",
"description": "",
"help": ""
}]}
Mensuration Capabilities: Basic
Has Histograms: false
Has Colormap: false
Has Multi Dimensions : false
Rendering Rule:
Min Scale: 0
Max Scale: 0
Copyright Text: MNR
Service Data Type: esriImageServiceDataTypeRGB
Min Values: N/A
Max Values: N/A
Mean Values: N/A
Standard Deviation Values: N/A
Object ID Field:
Fields:
None
Default Mosaic Method: Center
Allowed Mosaic Methods:
SortField:
SortValue: null
Mosaic Operator: First
Default Compression Quality: 75
Default Resampling Method: Bilinear
Max Record Count: null
Max Image Height: 4100
Max Image Width: 15000
Max Download Image Count: null
Max Mosaic Image Count: null
Allow Raster Function: true
Allow Copy: true
Allow Analysis: true
Allow Compute TiePoints: false
Supports Statistics: false
Supports Advanced Queries: false
Use StandardizedQueries: true
Raster Type Infos:
Name: Raster Dataset
Description: Supports all ArcGIS Raster Datasets
Help:
Has Raster Attribute Table: false
Edit Fields Info: null
Ownership Based AccessControl For Rasters: null
Child Resources:
Info
Statistics
Key Properties
Legend
Raster Function Infos
Supported Operations:
Export Image
Identify
Measure
Compute Histograms
Compute Statistics Histograms
Get Samples
Compute Class Statistics
Query Boundary
Compute Pixel Location
Compute Angles
Validate
Project